BEGIN:VCALENDAR
VERSION:2.0
PRODID:-//Smethport Area School District - ECPv6.15.17.1//NONSGML v1.0//EN
CALSCALE:GREGORIAN
METHOD:PUBLISH
X-ORIGINAL-URL:https://www.smethportschools.com
X-WR-CALDESC:Events for Smethport Area School District
REFRESH-INTERVAL;VALUE=DURATION:PT1H
X-Robots-Tag:noindex
X-PUBLISHED-TTL:PT1H
BEGIN:VTIMEZONE
TZID:America/New_York
BEGIN:DAYLIGHT
TZOFFSETFROM:-0500
TZOFFSETTO:-0400
TZNAME:EDT
DTSTART:20250309T070000
END:DAYLIGHT
BEGIN:STANDARD
TZOFFSETFROM:-0400
TZOFFSETTO:-0500
TZNAME:EST
DTSTART:20251102T060000
END:STANDARD
BEGIN:DAYLIGHT
TZOFFSETFROM:-0500
TZOFFSETTO:-0400
TZNAME:EDT
DTSTART:20260308T070000
END:DAYLIGHT
BEGIN:STANDARD
TZOFFSETFROM:-0400
TZOFFSETTO:-0500
TZNAME:EST
DTSTART:20261101T060000
END:STANDARD
BEGIN:DAYLIGHT
TZOFFSETFROM:-0500
TZOFFSETTO:-0400
TZNAME:EDT
DTSTART:20270314T070000
END:DAYLIGHT
BEGIN:STANDARD
TZOFFSETFROM:-0400
TZOFFSETTO:-0500
TZNAME:EST
DTSTART:20271107T060000
END:STANDARD
END:VTIMEZONE
BEGIN:VEVENT
DTSTART;TZID=America/New_York:20261005T190000
DTEND;TZID=America/New_York:20261005T190000
DTSTAMP:20260421T055046
CREATED:20251203T151815Z
LAST-MODIFIED:20251203T152424Z
UID:10000073-1791226800-1791226800@www.smethportschools.com
SUMMARY:Work Session Board Meeting
DESCRIPTION:
URL:https://www.smethportschools.com/event/work-session-board-meeting-12
CATEGORIES:Smethport Area School District
END:VEVENT
BEGIN:VEVENT
DTSTART;VALUE=DATE:20261012
DTEND;VALUE=DATE:20261013
DTSTAMP:20260421T055046
CREATED:20260211T154428Z
LAST-MODIFIED:20260211T163456Z
UID:10000082-1791763200-1791849599@www.smethportschools.com
SUMMARY:Columbus Day - No School
DESCRIPTION:
URL:https://www.smethportschools.com/event/columbus-day-no-school-2
CATEGORIES:Smethport Area School District,Smethport Elementary School,Smethport High School
END:VEVENT
BEGIN:VEVENT
DTSTART;TZID=America/New_York:20261012T190000
DTEND;TZID=America/New_York:20261012T190000
DTSTAMP:20260421T055046
CREATED:20251203T151238Z
LAST-MODIFIED:20251203T152356Z
UID:10000064-1791831600-1791831600@www.smethportschools.com
SUMMARY:Board of Directors Meeting
DESCRIPTION:
URL:https://www.smethportschools.com/event/board-of-directors-meeting-14
CATEGORIES:Smethport Area School District
END:VEVENT
BEGIN:VEVENT
DTSTART;VALUE=DATE:20261029
DTEND;VALUE=DATE:20261030
DTSTAMP:20260421T055046
CREATED:20260211T154510Z
LAST-MODIFIED:20260211T163315Z
UID:10000083-1793232000-1793318399@www.smethportschools.com
SUMMARY:End of First Nine Weeks Marking Period
DESCRIPTION:
URL:https://www.smethportschools.com/event/end-of-first-nine-weeks-marking-period-2
CATEGORIES:Smethport Area School District,Smethport Elementary School,Smethport High School
END:VEVENT
END:VCALENDAR