BEGIN:VCALENDAR
VERSION:2.0
PRODID:-//Smethport Area School District - ECPv6.15.17.1//NONSGML v1.0//EN
CALSCALE:GREGORIAN
METHOD:PUBLISH
X-WR-CALNAME:Smethport Area School District
X-ORIGINAL-URL:https://www.smethportschools.com
X-WR-CALDESC:Events for Smethport Area School District
REFRESH-INTERVAL;VALUE=DURATION:PT1H
X-Robots-Tag:noindex
X-PUBLISHED-TTL:PT1H
BEGIN:VTIMEZONE
TZID:America/New_York
BEGIN:DAYLIGHT
TZOFFSETFROM:-0500
TZOFFSETTO:-0400
TZNAME:EDT
DTSTART:20250309T070000
END:DAYLIGHT
BEGIN:STANDARD
TZOFFSETFROM:-0400
TZOFFSETTO:-0500
TZNAME:EST
DTSTART:20251102T060000
END:STANDARD
BEGIN:DAYLIGHT
TZOFFSETFROM:-0500
TZOFFSETTO:-0400
TZNAME:EDT
DTSTART:20260308T070000
END:DAYLIGHT
BEGIN:STANDARD
TZOFFSETFROM:-0400
TZOFFSETTO:-0500
TZNAME:EST
DTSTART:20261101T060000
END:STANDARD
BEGIN:DAYLIGHT
TZOFFSETFROM:-0500
TZOFFSETTO:-0400
TZNAME:EDT
DTSTART:20270314T070000
END:DAYLIGHT
BEGIN:STANDARD
TZOFFSETFROM:-0400
TZOFFSETTO:-0500
TZNAME:EST
DTSTART:20271107T060000
END:STANDARD
END:VTIMEZONE
BEGIN:VEVENT
DTSTART;TZID=America/New_York:20260803T190000
DTEND;TZID=America/New_York:20260803T190000
DTSTAMP:20260421T025656
CREATED:20251203T151706Z
LAST-MODIFIED:20251203T152159Z
UID:10000071-1785783600-1785783600@www.smethportschools.com
SUMMARY:Work Session Board Meeting
DESCRIPTION:
URL:https://www.smethportschools.com/event/work-session-board-meeting-10
CATEGORIES:Smethport Area School District
END:VEVENT
BEGIN:VEVENT
DTSTART;TZID=America/New_York:20260810T190000
DTEND;TZID=America/New_York:20260810T190000
DTSTAMP:20260421T025656
CREATED:20251203T151131Z
LAST-MODIFIED:20251203T152520Z
UID:10000062-1786388400-1786388400@www.smethportschools.com
SUMMARY:Board of Directors Meeting
DESCRIPTION:
URL:https://www.smethportschools.com/event/board-of-directors-meeting-12
CATEGORIES:Smethport Area School District
END:VEVENT
BEGIN:VEVENT
DTSTART;VALUE=DATE:20260824
DTEND;VALUE=DATE:20260825
DTSTAMP:20260421T025656
CREATED:20260211T154005Z
LAST-MODIFIED:20260211T164815Z
UID:10000076-1787529600-1787615999@www.smethportschools.com
SUMMARY:Teacher Professional Development Day
DESCRIPTION:
URL:https://www.smethportschools.com/event/teacher-professional-development-day-8
CATEGORIES:Smethport Area School District,Smethport Elementary School,Smethport High School
END:VEVENT
BEGIN:VEVENT
DTSTART;VALUE=DATE:20260825
DTEND;VALUE=DATE:20260826
DTSTAMP:20260421T025656
CREATED:20260211T154039Z
LAST-MODIFIED:20260211T164456Z
UID:10000077-1787616000-1787702399@www.smethportschools.com
SUMMARY:Teacher Professional Development Day
DESCRIPTION:
URL:https://www.smethportschools.com/event/teacher-professional-development-day-9
CATEGORIES:Smethport Area School District,Smethport Elementary School,Smethport High School
END:VEVENT
BEGIN:VEVENT
DTSTART;VALUE=DATE:20260825
DTEND;VALUE=DATE:20260826
DTSTAMP:20260421T025656
CREATED:20260211T154146Z
LAST-MODIFIED:20260211T164338Z
UID:10000079-1787616000-1787702399@www.smethportschools.com
SUMMARY:Back-to-School Night
DESCRIPTION:
URL:https://www.smethportschools.com/event/back-to-school-night-2
CATEGORIES:Smethport Area School District,Smethport Elementary School,Smethport High School
END:VEVENT
BEGIN:VEVENT
DTSTART;VALUE=DATE:20260826
DTEND;VALUE=DATE:20260827
DTSTAMP:20260421T025656
CREATED:20260211T154111Z
LAST-MODIFIED:20260211T164037Z
UID:10000078-1787702400-1787788799@www.smethportschools.com
SUMMARY:Teacher Professional Development Day
DESCRIPTION:
URL:https://www.smethportschools.com/event/teacher-professional-development-day-10
CATEGORIES:Smethport Area School District,Smethport Elementary School,Smethport High School
END:VEVENT
BEGIN:VEVENT
DTSTART;VALUE=DATE:20260827
DTEND;VALUE=DATE:20260828
DTSTAMP:20260421T025656
CREATED:20260211T154230Z
LAST-MODIFIED:20260211T163801Z
UID:10000080-1787788800-1787875199@www.smethportschools.com
SUMMARY:Opening Day for Students
DESCRIPTION:
URL:https://www.smethportschools.com/event/opening-day-for-students-2
CATEGORIES:Smethport Area School District,Smethport Elementary School,Smethport High School
END:VEVENT
END:VCALENDAR