BEGIN:VCALENDAR
VERSION:2.0
PRODID:-//Smethport Area School District - ECPv6.15.17.1//NONSGML v1.0//EN
CALSCALE:GREGORIAN
METHOD:PUBLISH
X-WR-CALNAME:Smethport Area School District
X-ORIGINAL-URL:https://www.smethportschools.com
X-WR-CALDESC:Events for Smethport Area School District
REFRESH-INTERVAL;VALUE=DURATION:PT1H
X-Robots-Tag:noindex
X-PUBLISHED-TTL:PT1H
BEGIN:VTIMEZONE
TZID:America/New_York
BEGIN:DAYLIGHT
TZOFFSETFROM:-0500
TZOFFSETTO:-0400
TZNAME:EDT
DTSTART:20250309T070000
END:DAYLIGHT
BEGIN:STANDARD
TZOFFSETFROM:-0400
TZOFFSETTO:-0500
TZNAME:EST
DTSTART:20251102T060000
END:STANDARD
BEGIN:DAYLIGHT
TZOFFSETFROM:-0500
TZOFFSETTO:-0400
TZNAME:EDT
DTSTART:20260308T070000
END:DAYLIGHT
BEGIN:STANDARD
TZOFFSETFROM:-0400
TZOFFSETTO:-0500
TZNAME:EST
DTSTART:20261101T060000
END:STANDARD
BEGIN:DAYLIGHT
TZOFFSETFROM:-0500
TZOFFSETTO:-0400
TZNAME:EDT
DTSTART:20270314T070000
END:DAYLIGHT
BEGIN:STANDARD
TZOFFSETFROM:-0400
TZOFFSETTO:-0500
TZNAME:EST
DTSTART:20271107T060000
END:STANDARD
END:VTIMEZONE
BEGIN:VEVENT
DTSTART;TZID=America/New_York:20260504T190000
DTEND;TZID=America/New_York:20260504T190000
DTSTAMP:20260422T073103
CREATED:20251203T151558Z
LAST-MODIFIED:20251203T152726Z
UID:10000069-1777921200-1777921200@www.smethportschools.com
SUMMARY:Work Session Board Meeting
DESCRIPTION:
URL:https://www.smethportschools.com/event/work-session-board-meeting-8
CATEGORIES:Smethport Area School District
END:VEVENT
BEGIN:VEVENT
DTSTART;TZID=America/New_York:20260511T190000
DTEND;TZID=America/New_York:20260511T190000
DTSTAMP:20260422T073103
CREATED:20251203T151034Z
LAST-MODIFIED:20251203T152658Z
UID:10000060-1778526000-1778526000@www.smethportschools.com
SUMMARY:Board of Directors Meeting
DESCRIPTION:
URL:https://www.smethportschools.com/event/board-of-directors-meeting-10
CATEGORIES:Smethport Area School District
END:VEVENT
BEGIN:VEVENT
DTSTART;VALUE=DATE:20260525
DTEND;VALUE=DATE:20260526
DTSTAMP:20260422T073103
CREATED:20250616T221148Z
LAST-MODIFIED:20250616T221148Z
UID:10000048-1779667200-1779753599@www.smethportschools.com
SUMMARY:Memorial Day - No School
DESCRIPTION:
URL:https://www.smethportschools.com/event/memorial-day-no-school
CATEGORIES:Smethport Area School District
END:VEVENT
BEGIN:VEVENT
DTSTART;VALUE=DATE:20260528
DTEND;VALUE=DATE:20260529
DTSTAMP:20260422T073103
CREATED:20250616T221206Z
LAST-MODIFIED:20250616T221206Z
UID:10000049-1779926400-1780012799@www.smethportschools.com
SUMMARY:Early Dismissal
DESCRIPTION:
URL:https://www.smethportschools.com/event/early-dismissal-3
CATEGORIES:Smethport Area School District
END:VEVENT
BEGIN:VEVENT
DTSTART;VALUE=DATE:20260528
DTEND;VALUE=DATE:20260529
DTSTAMP:20260422T073103
CREATED:20250616T221226Z
LAST-MODIFIED:20250616T221226Z
UID:10000050-1779926400-1780012799@www.smethportschools.com
SUMMARY:End of Fourth Nine Weeks Marking Period
DESCRIPTION:
URL:https://www.smethportschools.com/event/end-of-fourth-nine-weeks-marking-period
CATEGORIES:Smethport Area School District
END:VEVENT
BEGIN:VEVENT
DTSTART;VALUE=DATE:20260528
DTEND;VALUE=DATE:20260529
DTSTAMP:20260422T073103
CREATED:20250616T221240Z
LAST-MODIFIED:20250616T221240Z
UID:10000051-1779926400-1780012799@www.smethportschools.com
SUMMARY:Last Day of School for Students
DESCRIPTION:
URL:https://www.smethportschools.com/event/last-day-of-school-for-students
CATEGORIES:Smethport Area School District
END:VEVENT
BEGIN:VEVENT
DTSTART;VALUE=DATE:20260529
DTEND;VALUE=DATE:20260530
DTSTAMP:20260422T073103
CREATED:20250616T221300Z
LAST-MODIFIED:20250616T221300Z
UID:10000052-1780012800-1780099199@www.smethportschools.com
SUMMARY:Graduation
DESCRIPTION:
URL:https://www.smethportschools.com/event/graduation
CATEGORIES:Smethport Area School District
END:VEVENT
BEGIN:VEVENT
DTSTART;VALUE=DATE:20260529
DTEND;VALUE=DATE:20260530
DTSTAMP:20260422T073103
CREATED:20250616T221322Z
LAST-MODIFIED:20250616T221322Z
UID:10000053-1780012800-1780099199@www.smethportschools.com
SUMMARY:Last Teacher Day
DESCRIPTION:
URL:https://www.smethportschools.com/event/last-teacher-day
CATEGORIES:Smethport Area School District
END:VEVENT
BEGIN:VEVENT
DTSTART;VALUE=DATE:20260529
DTEND;VALUE=DATE:20260530
DTSTAMP:20260422T073103
CREATED:20250616T221338Z
LAST-MODIFIED:20250616T221338Z
UID:10000054-1780012800-1780099199@www.smethportschools.com
SUMMARY:Teacher Professional Development Day
DESCRIPTION:
URL:https://www.smethportschools.com/event/teacher-professional-development-day-7
CATEGORIES:Smethport Area School District
END:VEVENT
END:VCALENDAR